BEGIN:VCALENDAR
VERSION:2.0
PRODID:-//Squarespace Inc/Squarespace 6//v6//EN
BEGIN:VEVENT
UID:5be4c49a03ce64d3c2d2cbcd@squarespace.com
DTSTAMP:20181115T015837Z
DTSTART:20181120T230000Z
DTEND:20181121T000000Z
SUMMARY:Author Talk: Billy Bragg
END:VEVENT
END:VCALENDAR
