BEGIN:VCALENDAR
VERSION:2.0
PRODID:-//Squarespace Inc/Squarespace 6//v6//EN
BEGIN:VEVENT
UID:5bd79cb3419202878762b662@squarespace.com
DTSTAMP:20181031T204221Z
DTSTART:20181122T230000Z
DTEND:20181123T010000Z
SUMMARY:Book Launch: The Friday Poem edited by Steve Braunias 
END:VEVENT
END:VCALENDAR
