BEGIN:VCALENDAR
VERSION:2.0
PRODID:-//Squarespace Inc/Squarespace 6//v6//EN
BEGIN:VEVENT
UID:5bb54b7271c10b552b29702b@squarespace.com
DTSTAMP:20181003T231451Z
DTSTART:20190309T230000Z
DTEND:20190310T010000Z
SUMMARY:Author Talk: Passion Reveals Purpose by Tosin Adewumi
END:VEVENT
END:VCALENDAR
