BEGIN:VCALENDAR
VERSION:2.0
PRODID:-//Squarespace Inc/Squarespace 6//v6//EN
BEGIN:VEVENT
UID:5bc67178f4e1fc89e0fdfb96@squarespace.com
DTSTAMP:20181019T003005Z
DTSTART:20181126T233000Z
DTEND:20181127T010000Z
SUMMARY:Book Club: Time Out's Lit Reads Book Club #8
END:VEVENT
END:VCALENDAR
