BEGIN:VCALENDAR
VERSION:2.0
PRODID:-//Squarespace Inc/Squarespace 6//v6//EN
BEGIN:VEVENT
UID:5bbfd9e8ec212d8f5b7deb56@squarespace.com
DTSTAMP:20181017T195627Z
DTSTART:20181028T150000Z
DTEND:20181028T160000Z
SUMMARY:AUTHOR TALK: The Catalan Kitchen by Emma Warren
END:VEVENT
END:VCALENDAR
